BEGIN:VCALENDAR
VERSION:2.0
METHOD:PUBLISH
BEGIN:VEVENT
UID:WILD_APRICOT_EVENT_3334704_SESSION_1
DTSTART:20190414T040000Z
DTEND:20190414T040000Z
SUMMARY:Cancelled - Cold Frame Workshop
LOCATION:Asquith
DESCRIPTION:https://permaculturenorth.org.au/event-3334704\n\n\n\n  Sunday morning update: this event has been cancelled due to illness. \n  \n\n  Come let's learn together about extending your growing season from early spring into late autumn using cold frames. We will watch a couple of helpful "how to" videos and then make a cold frame together. Jess has made one cold frame which helped the fruit on her eggplants grow and mature right into June!\n  Bring your hat\, gloves\, drink bottle\, thinking caps\, and something small for afternoon tea. Held at Jess and Phil's place in Asquith\, address provided upon registration.\n
DTSTAMP:20260424T154721Z
END:VEVENT
END:VCALENDAR
