BEGIN:VCALENDAR
VERSION:2.0
METHOD:PUBLISH
BEGIN:VEVENT
UID:WILD_APRICOT_EVENT_3341850_SESSION_1
DTSTART:20190518T040000Z
DTEND:20190518T060000Z
SUMMARY:Beading/Jewellery workshop
LOCATION:Wahroonga
DESCRIPTION:https://permaculturenorth.org.au/event-3341850\n\n\n  Beading/Jewellery making\n  Come and learn the basics of beading/jewellery making. It is creative\, fun and you can actually wear the things you make and they make wonderful gifts.\n  You can make your own earings\, pendants\, necklace\, bracelet or key ring or a star decoration. You can make one or all. The choice is yours.\n  You will learn -\n     * How to use basic hand tools such as straight and round nose pliers\n     * Open and close jump rings and create simple wire loops - both vital skills needed in many jewellery projects\n     * Use tiger tail to make necklaces and crimping\n     * What is the difference between a head pin and an eye pin?\n     * What are findings?\n  All materials\, including beads\, are supplied.\n  If you have any special beads at home that you don't know what to do with\, you are welcome to bring them with you and we can put our creative caps on and help you create a special necklace\, bracelet or something.\n  You will be given a bag to carry your goodies home.\n\n
DTSTAMP:20260424T195357Z
END:VEVENT
END:VCALENDAR
