BEGIN:VCALENDAR
VERSION:2.0
METHOD:PUBLISH
BEGIN:VEVENT
UID:WILD_APRICOT_EVENT_3474194_SESSION_1
DTSTART:20190810T040000Z
DTEND:20190810T060000Z
SUMMARY:Ryde/Hornsby - Pruning.Grafting.Air Layering
LOCATION:Pennant Hills
DESCRIPTION:https://permaculturenorth.org.au/event-3474194\n\n    \n  Refresh your knowledge of pruning\,grafting and air layering your deciduous trees  in preparation for Spring. Deb will demonstrate the basics on some trees at Steph's place while Steph will show some methods of grafting and air layering on others.\n  A great opportunity to pool our knowledge\, learn a thing or two and share some afternoon tea. Contributions to the afternoon tea will be appreciated!\n  There will be scions available from about 10 different apples  (Granny Smith\, Aware\, Kids Pippin Orange\, Egmont\, Opalescent\, etc) 2 pears (Josephine and something else) and Ruby Gold plum.\n  The address will be sent to you on registration\n  This event is free and for members and their guests only.\n
DTSTAMP:20260424T154500Z
END:VEVENT
END:VCALENDAR
